BEGIN:VCALENDAR
VERSION:2.0
CALSCALE:GREGORIAN
PRODID:-//Diputació de Barcelona//DibaCMS//EN
BEGIN:VEVENT
UID:1326
DTSTAMP:20260420T172136
DTSTART:20200304T100000
DTEND:20200304T120000
SUMMARY:Visita guiada al Castell de Miralles
LOCATION:
METHOD:PUBLISH
X-WR-CALNAME:st.m.miralles@santamariademiralles.cat
X-WR-TIMEZONE:Europe/Madrid
DESCRIPTION:
URI:https://www.santamariademiralles.cat/actualitat/agenda/visita-guiada-al-castell-de-miralles.html
CLASS:PUBLIC
END:VEVENT
END:VCALENDAR
