BEGIN:VCALENDAR
VERSION:2.0
CALSCALE:GREGORIAN
PRODID:-//Diputació de Barcelona//DibaCMS//EN
BEGIN:VEVENT
UID:1363
DTSTAMP:20260420T235813
DTSTART:20200829T190000
DTEND:20200829T210000
SUMMARY:Cinema Fòrum
LOCATION:Crta Igualada a Valls s/n  08787 Santa Maria de Miralles
METHOD:PUBLISH
X-WR-CALNAME:st.m.miralles@santamariademiralles.cat
X-WR-TIMEZONE:Europe/Madrid
DESCRIPTION:Projecció de la pel.lícula  "Te Doy mis Ojos" i posterior debat moderat per Dolors Capellades.

URI:https://www.santamariademiralles.cat/actualitat/agenda/cinema-forum.html
CLASS:PUBLIC
END:VEVENT
END:VCALENDAR
