BEGIN:VCALENDAR
VERSION:2.0
CALSCALE:GREGORIAN
PRODID:-//Diputació de Barcelona//DibaCMS//EN
BEGIN:VEVENT
UID:1375
DTSTAMP:20260420T193055
DTSTART:20210220T190000
DTEND:20210220T210000
SUMMARY:CICLE GAUDÍ DE CINEMA CATALÀ: La boda de Rosa
LOCATION:Crta Igualada a Valls s/n  08787 Santa Maria de Miralles
METHOD:PUBLISH
X-WR-CALNAME:st.m.miralles@santamariademiralles.cat
X-WR-TIMEZONE:Europe/Madrid
DESCRIPTION:
URI:https://www.santamariademiralles.cat/actualitat/agenda/cicle-gaudi-de-cinema-catala-la-boda-de-rosa.html
CLASS:PUBLIC
END:VEVENT
END:VCALENDAR
