BEGIN:VCALENDAR
VERSION:2.0
CALSCALE:GREGORIAN
PRODID:-//Diputació de Barcelona//DibaCMS//EN
BEGIN:VEVENT
UID:1377
DTSTAMP:20260420T174801
DTSTART:20201003T180000
DTEND:20201003T200000
SUMMARY:Descobrim els secrets dels ratpenats
LOCATION:Crta Igualada a Valls s/n  08787 Santa Maria de Miralles
METHOD:PUBLISH
X-WR-CALNAME:st.m.miralles@santamariademiralles.cat
X-WR-TIMEZONE:Europe/Madrid
DESCRIPTION:
URI:https://www.santamariademiralles.cat/actualitat/agenda/descobrim-els-secrets-dels-ratpenats.html
CLASS:PUBLIC
END:VEVENT
END:VCALENDAR
