BEGIN:VCALENDAR
VERSION:2.0
CALSCALE:GREGORIAN
PRODID:-//Diputació de Barcelona//DibaCMS//EN
BEGIN:VEVENT
UID:1385
DTSTAMP:20260420T234934
DTSTART:20220924T120000
DTEND:20220924T130000
SUMMARY:Visita guiada al Castell de Miralles
LOCATION:08787 Santa Maria de Miralles
METHOD:PUBLISH
X-WR-CALNAME:st.m.miralles@santamariademiralles.cat
X-WR-TIMEZONE:Europe/Madrid
DESCRIPTION:Les visites s’iniciaran a les 12:00.

URI:https://www.santamariademiralles.cat/actualitat/agenda/1385-visita-guiada-al-castell-de-miralles.html
CLASS:PUBLIC
END:VEVENT
END:VCALENDAR
