BEGIN:VCALENDAR
VERSION:2.0
CALSCALE:GREGORIAN
PRODID:-//Diputació de Barcelona//DibaCMS//EN
BEGIN:VEVENT
UID:1403
DTSTAMP:20260420T214203
DTSTART:20220605T090000
DTEND:20220605T140000
SUMMARY:FIRA DE L'APLEC DEL CASTELL 2022
LOCATION:08787 Santa Maria de Miralles
METHOD:PUBLISH
X-WR-CALNAME:st.m.miralles@santamariademiralles.cat
X-WR-TIMEZONE:Europe/Madrid
DESCRIPTION:
URI:https://www.santamariademiralles.cat/actualitat/agenda/fira-de-laplec-del-castell-2022.html
CLASS:PUBLIC
END:VEVENT
END:VCALENDAR
