BEGIN:VCALENDAR
VERSION:2.0
CALSCALE:GREGORIAN
PRODID:-//Diputació de Barcelona//DibaCMS//EN
BEGIN:VEVENT
UID:1424
DTSTAMP:20260421T020837
DTSTART:20210922T000000
DTEND:20210929T000000
SUMMARY:GIMNÀSTICA VIRTUAL 13 (22/09/2021) 
LOCATION:
METHOD:PUBLISH
X-WR-CALNAME:st.m.miralles@santamariademiralles.cat
X-WR-TIMEZONE:Europe/Madrid
DESCRIPTION:
URI:https://www.santamariademiralles.cat/actualitat/agenda/gimnastica-virtual-13-22092021-.html
CLASS:PUBLIC
END:VEVENT
END:VCALENDAR
