BEGIN:VCALENDAR
VERSION:2.0
CALSCALE:GREGORIAN
PRODID:-//Diputació de Barcelona//DibaCMS//EN
BEGIN:VEVENT
UID:1429
DTSTAMP:20260420T214117
DTSTART:20211013T000000
DTEND:20211020T000000
SUMMARY:GIMNÀSTICA VIRTUAL 16 (13/10/2021) 
LOCATION:
METHOD:PUBLISH
X-WR-CALNAME:st.m.miralles@santamariademiralles.cat
X-WR-TIMEZONE:Europe/Madrid
DESCRIPTION:
URI:https://www.santamariademiralles.cat/actualitat/agenda/gimnastica-virtual-16-13102021-.html
CLASS:PUBLIC
END:VEVENT
END:VCALENDAR
