BEGIN:VCALENDAR
VERSION:2.0
CALSCALE:GREGORIAN
PRODID:-//Diputació de Barcelona//DibaCMS//EN
BEGIN:VEVENT
UID:1431
DTSTAMP:20260420T233939
DTSTART:20211020T000000
DTEND:20211027T000000
SUMMARY:GIMNÀSTICA VIRTUAL 17 (20/10/2021)  
LOCATION:
METHOD:PUBLISH
X-WR-CALNAME:st.m.miralles@santamariademiralles.cat
X-WR-TIMEZONE:Europe/Madrid
DESCRIPTION:
URI:https://www.santamariademiralles.cat/actualitat/agenda/gimnastica-virtual-17-20102021-.html
CLASS:PUBLIC
END:VEVENT
END:VCALENDAR
