BEGIN:VCALENDAR
VERSION:2.0
CALSCALE:GREGORIAN
PRODID:-//Diputació de Barcelona//DibaCMS//EN
BEGIN:VEVENT
UID:1434
DTSTAMP:20260420T214325
DTSTART:20211103T000000
DTEND:20211110T000000
SUMMARY:GIMNÀSTICA VIRTUAL 19 (03/11/2021) 
LOCATION:
METHOD:PUBLISH
X-WR-CALNAME:st.m.miralles@santamariademiralles.cat
X-WR-TIMEZONE:Europe/Madrid
DESCRIPTION:
URI:https://www.santamariademiralles.cat/actualitat/agenda/gimnastica-virtual-19-03112021-.html
CLASS:PUBLIC
END:VEVENT
END:VCALENDAR
