BEGIN:VCALENDAR
VERSION:2.0
CALSCALE:GREGORIAN
PRODID:-//Diputació de Barcelona//DibaCMS//EN
BEGIN:VEVENT
UID:1441
DTSTAMP:20260420T214152
DTSTART:20220117T090000
DTEND:20220117T130000
SUMMARY:INSPECCIÓ ITV AGRÍCOLA
LOCATION:
METHOD:PUBLISH
X-WR-CALNAME:st.m.miralles@santamariademiralles.cat
X-WR-TIMEZONE:Europe/Madrid
DESCRIPTION:
URI:https://www.santamariademiralles.cat/actualitat/agenda/inspeccio-itv-agricola.html
CLASS:PUBLIC
END:VEVENT
END:VCALENDAR
