BEGIN:VCALENDAR
VERSION:2.0
CALSCALE:GREGORIAN
PRODID:-//Diputació de Barcelona//DibaCMS//EN
BEGIN:VEVENT
UID:1442
DTSTAMP:20260420T214244
DTSTART:20211117T000000
DTEND:20211124T000000
SUMMARY:GIMNÀSTICA VIRTUAL 21 (17/11/2021)
LOCATION:
METHOD:PUBLISH
X-WR-CALNAME:st.m.miralles@santamariademiralles.cat
X-WR-TIMEZONE:Europe/Madrid
DESCRIPTION:
URI:https://www.santamariademiralles.cat/actualitat/agenda/gimnastica-virtual-21-17112021.html
CLASS:PUBLIC
END:VEVENT
END:VCALENDAR
