BEGIN:VCALENDAR
VERSION:2.0
CALSCALE:GREGORIAN
PRODID:-//Diputació de Barcelona//DibaCMS//EN
BEGIN:VEVENT
UID:1443
DTSTAMP:20260420T234032
DTSTART:20211128T083000
DTEND:20211128T130000
SUMMARY:JORNADA FAMILIAR AMB MOTIU DE LA COMMEMORACIÓ DEL DIA INTERNACIONAL PER L'ERRADICACIO DE LA VIOLÈNCIA ENVERS LES DONES
LOCATION:Crta Igualada a Valls s/n  08787 Santa Maria de Miralles
METHOD:PUBLISH
X-WR-CALNAME:st.m.miralles@santamariademiralles.cat
X-WR-TIMEZONE:Europe/Madrid
DESCRIPTION:
URI:https://www.santamariademiralles.cat/actualitat/agenda/jornada-familiar-amb-motiu-de-la-commemoracio-del-dia-internacional-per-lerradicacio-de-la-violencia-envers-les-dones.html
CLASS:PUBLIC
END:VEVENT
END:VCALENDAR
