BEGIN:VCALENDAR
VERSION:2.0
CALSCALE:GREGORIAN
PRODID:-//Diputació de Barcelona//DibaCMS//EN
BEGIN:VEVENT
UID:1456
DTSTAMP:20260420T234409
DTSTART:20220319T170000
DTEND:20220319T190000
SUMMARY:Taller participatiu: Vall de la Riera 
LOCATION:Crta Igualada a Valls s/n  08787 Santa Maria de Miralles
METHOD:PUBLISH
X-WR-CALNAME:st.m.miralles@santamariademiralles.cat
X-WR-TIMEZONE:Europe/Madrid
DESCRIPTION:2n taller participatiu on fer propostes d'accions per a un futur millor a la Vall de la Riera de Carme.

URI:https://www.santamariademiralles.cat/actualitat/agenda/taller-participatiu-vall-de-la-riera-.html
CLASS:PUBLIC
END:VEVENT
END:VCALENDAR
