BEGIN:VCALENDAR
VERSION:2.0
CALSCALE:GREGORIAN
PRODID:-//Diputació de Barcelona//DibaCMS//EN
BEGIN:VEVENT
UID:1460
DTSTAMP:20260420T214355
DTSTART:20220417T123000
DTEND:20220417T133000
SUMMARY:Missa de Pasqua
LOCATION:Església de Sant Romà de Santa Maria de Miralles 
METHOD:PUBLISH
X-WR-CALNAME:st.m.miralles@santamariademiralles.cat
X-WR-TIMEZONE:Europe/Madrid
DESCRIPTION:
URI:https://www.santamariademiralles.cat/actualitat/agenda/missa-de-pasqua.html
CLASS:PUBLIC
END:VEVENT
END:VCALENDAR
