BEGIN:VCALENDAR
VERSION:2.0
CALSCALE:GREGORIAN
PRODID:-//Diputació de Barcelona//DibaCMS//EN
BEGIN:VEVENT
UID:1463
DTSTAMP:20260420T195415
DTSTART:20220514T190000
DTEND:20220514T210000
SUMMARY:TALLER CERÀMICA I VI
LOCATION:Crta Igualada a Valls s/n  08787 Santa Maria de Miralles
METHOD:PUBLISH
X-WR-CALNAME:st.m.miralles@santamariademiralles.cat
X-WR-TIMEZONE:Europe/Madrid
DESCRIPTION:Un taller dirigit per l'artista ceramista Joan Carles Llarch  Cruset que endinsarà els assistents en el món del maridatge entre ceràmica i vi fent un viatge per la història. 

 

URI:https://www.santamariademiralles.cat/actualitat/agenda/taller-ceramica-i-vi.html
CLASS:PUBLIC
END:VEVENT
END:VCALENDAR
