BEGIN:VCALENDAR
VERSION:2.0
CALSCALE:GREGORIAN
PRODID:-//Diputació de Barcelona//DibaCMS//EN
BEGIN:VEVENT
UID:1482
DTSTAMP:20260420T214019
DTSTART:20221016T100000
DTEND:20221016T130000
SUMMARY:Aus i ratpenats dels bosc de la riera de Miralles
LOCATION:Crta Igualada a Valls s/n  08787 Santa Maria de Miralles
METHOD:PUBLISH
X-WR-CALNAME:st.m.miralles@santamariademiralles.cat
X-WR-TIMEZONE:Europe/Madrid
DESCRIPTION:
URI:https://www.santamariademiralles.cat/actualitat/agenda/aus-i-ratpenats-dels-bosc-de-la-riera-de-miralles.html
CLASS:PUBLIC
END:VEVENT
END:VCALENDAR
