BEGIN:VCALENDAR
VERSION:2.0
CALSCALE:GREGORIAN
PRODID:-//Diputació de Barcelona//DibaCMS//EN
BEGIN:VEVENT
UID:1506
DTSTAMP:20260420T212459
DTSTART:20230227T000000
DTEND:20230313T000000
SUMMARY:SETMANA DE LA DONA 
LOCATION:
METHOD:PUBLISH
X-WR-CALNAME:st.m.miralles@santamariademiralles.cat
X-WR-TIMEZONE:Europe/Madrid
DESCRIPTION:
URI:https://www.santamariademiralles.cat/actualitat/agenda/setmana-de-la-dona-.html
CLASS:PUBLIC
END:VEVENT
END:VCALENDAR
