BEGIN:VCALENDAR
VERSION:2.0
CALSCALE:GREGORIAN
PRODID:-//Diputació de Barcelona//DibaCMS//EN
BEGIN:VEVENT
UID:1525
DTSTAMP:20260420T193305
DTSTART:20230729T200000
DTEND:20230729T213000
SUMMARY:Festival Itinera 
LOCATION:
METHOD:PUBLISH
X-WR-CALNAME:st.m.miralles@santamariademiralles.cat
X-WR-TIMEZONE:Europe/Madrid
DESCRIPTION:
URI:https://www.santamariademiralles.cat/actualitat/agenda/festival-itinera-.html
CLASS:PUBLIC
END:VEVENT
END:VCALENDAR
