BEGIN:VCALENDAR
VERSION:2.0
CALSCALE:GREGORIAN
PRODID:-//Diputació de Barcelona//DibaCMS//EN
BEGIN:VEVENT
UID:1531
DTSTAMP:20260420T215639
DTSTART:20231119T080000
DTEND:20231119T130000
SUMMARY:Caminada popular "De Castell a Castell"
LOCATION:
METHOD:PUBLISH
X-WR-CALNAME:st.m.miralles@santamariademiralles.cat
X-WR-TIMEZONE:Europe/Madrid
DESCRIPTION:"DE CASTELL A CASTELL"

Us convidem a participar de la darrera caminada popular d'aquest any 2023.

Cal inscripció prèvia a www.entrapolis.com 

Preu de l'activitat: 5,00 € (inclou esmorzar)

Participa! Fes Miralles! 

URI:https://www.santamariademiralles.cat/actualitat/agenda/caminada-popular-de-castell-a-castell.html
CLASS:PUBLIC
END:VEVENT
END:VCALENDAR
