BEGIN:VCALENDAR
VERSION:2.0
CALSCALE:GREGORIAN
PRODID:-//Diputació de Barcelona//DibaCMS//EN
BEGIN:VEVENT
UID:1543
DTSTAMP:20260420T214549
DTSTART:20240208T123000
DTEND:20240208T133000
SUMMARY:BIBLIOBÚS Serra de Rubió  
LOCATION:Ctra. d'Igualada a Valls, s/n 08787 Santa Maria de Miralles
METHOD:PUBLISH
X-WR-CALNAME:st.m.miralles@santamariademiralles.cat
X-WR-TIMEZONE:Europe/Madrid
DESCRIPTION:Viista del Bibliobús Serra de Rubió

URI:https://www.santamariademiralles.cat/actualitat/agenda/1543-bibliobus-serra-de-rubio-.html
CLASS:PUBLIC
END:VEVENT
END:VCALENDAR
