BEGIN:VCALENDAR
VERSION:2.0
CALSCALE:GREGORIAN
PRODID:-//Diputació de Barcelona//DibaCMS//EN
BEGIN:VEVENT
UID:1554
DTSTAMP:20260421T000256
DTSTART:20240323T180000
DTEND:20240323T190000
SUMMARY:BENEDICCIÓ DE RAMS I MISSA
LOCATION:08787 Santa Maria de Miralles
METHOD:PUBLISH
X-WR-CALNAME:st.m.miralles@santamariademiralles.cat
X-WR-TIMEZONE:Europe/Madrid
DESCRIPTION:
URI:https://www.santamariademiralles.cat/actualitat/agenda/benediccio-de-rams-i-missa.html
CLASS:PUBLIC
END:VEVENT
END:VCALENDAR
