BEGIN:VCALENDAR
VERSION:2.0
CALSCALE:GREGORIAN
PRODID:-//Diputació de Barcelona//DibaCMS//EN
BEGIN:VEVENT
UID:1557
DTSTAMP:20260421T000004
DTSTART:20241006T130000
DTEND:20241006T140000
SUMMARY:Trobada de la Gent Gran 2024
LOCATION:08787 Santa Maria de Miralles
METHOD:PUBLISH
X-WR-CALNAME:st.m.miralles@santamariademiralles.cat
X-WR-TIMEZONE:Europe/Madrid
DESCRIPTION:
URI:https://www.santamariademiralles.cat/actualitat/agenda/trobada-de-la-gent-gran-2024.html
CLASS:PUBLIC
END:VEVENT
END:VCALENDAR
