BEGIN:VCALENDAR
VERSION:2.0
CALSCALE:GREGORIAN
PRODID:-//Diputació de Barcelona//DibaCMS//EN
BEGIN:VEVENT
UID:1558
DTSTAMP:20260421T043727
DTSTART:20241225T120000
DTEND:20241225T130000
SUMMARY:MISSA DE NADAL
LOCATION:08787 Santa Maria de Miralles
METHOD:PUBLISH
X-WR-CALNAME:st.m.miralles@santamariademiralles.cat
X-WR-TIMEZONE:Europe/Madrid
DESCRIPTION:
URI:https://www.santamariademiralles.cat/actualitat/agenda/1558-missa-de-nadal.html
CLASS:PUBLIC
END:VEVENT
END:VCALENDAR
