BEGIN:VCALENDAR
VERSION:2.0
CALSCALE:GREGORIAN
PRODID:-//Diputació de Barcelona//DibaCMS//EN
BEGIN:VEVENT
UID:1577
DTSTAMP:20260421T023314
DTSTART:20240512T090000
DTEND:20240512T200000
SUMMARY:Eleccions Parlament Catalunya
LOCATION:Crta Igualada a Valls s/n  08787 Santa Maria de Miralles
METHOD:PUBLISH
X-WR-CALNAME:st.m.miralles@santamariademiralles.cat
X-WR-TIMEZONE:Europe/Madrid
DESCRIPTION:Eleccions al Parlament de Catalunya

URI:https://www.santamariademiralles.cat/actualitat/agenda/eleccions-parlament-catalunya.html
CLASS:PUBLIC
END:VEVENT
END:VCALENDAR
