BEGIN:VCALENDAR
VERSION:2.0
CALSCALE:GREGORIAN
PRODID:-//Diputació de Barcelona//DibaCMS//EN
BEGIN:VEVENT
UID:1578
DTSTAMP:20260421T043447
DTSTART:20240609T080000
DTEND:20240609T200000
SUMMARY:Eleccions Parlament Europeu
LOCATION:Crta Igualada a Valls s/n  08787 Santa Maria de Miralles
METHOD:PUBLISH
X-WR-CALNAME:st.m.miralles@santamariademiralles.cat
X-WR-TIMEZONE:Europe/Madrid
DESCRIPTION:Eleccions al Parlament Europeu 2024

URI:https://www.santamariademiralles.cat/actualitat/agenda/eleccions-parlament-europeu.html
CLASS:PUBLIC
END:VEVENT
END:VCALENDAR
