BEGIN:VCALENDAR
VERSION:2.0
CALSCALE:GREGORIAN
PRODID:-//Diputació de Barcelona//DibaCMS//EN
BEGIN:VEVENT
UID:1615
DTSTAMP:20260421T000112
DTSTART:20241107T152000
DTEND:20241107T155000
SUMMARY:Caixer mòbil
LOCATION:Ctra. d'Igualada a Valls, s/n 08787 Santa Maria de Miralles
METHOD:PUBLISH
X-WR-CALNAME:st.m.miralles@santamariademiralles.cat
X-WR-TIMEZONE:Europe/Madrid
DESCRIPTION:Visita del Caixer mòbil de Caixa Enginyers

URI:https://www.santamariademiralles.cat/actualitat/agenda/1615-caixer-mobil.html
CLASS:PUBLIC
END:VEVENT
END:VCALENDAR
