BEGIN:VCALENDAR
VERSION:2.0
CALSCALE:GREGORIAN
PRODID:-//Diputació de Barcelona//DibaCMS//EN
BEGIN:VEVENT
UID:1622
DTSTAMP:20260421T042544
DTSTART:20250204T124500
DTEND:20250204T131500
SUMMARY:Caixer mòbil - Caixa Enginyers
LOCATION:
METHOD:PUBLISH
X-WR-CALNAME:st.m.miralles@santamariademiralles.cat
X-WR-TIMEZONE:Europe/Madrid
DESCRIPTION:
URI:https://www.santamariademiralles.cat/actualitat/agenda/caixer-mobil-caixa-enginyers.html
CLASS:PUBLIC
END:VEVENT
END:VCALENDAR
