BEGIN:VCALENDAR
VERSION:2.0
CALSCALE:GREGORIAN
PRODID:-//Diputació de Barcelona//DibaCMS//EN
BEGIN:VEVENT
UID:1629
DTSTAMP:20260421T021330
DTSTART:20250317T102500
DTEND:20250317T104500
SUMMARY:Caixer Mòbil    
LOCATION:
METHOD:PUBLISH
X-WR-CALNAME:st.m.miralles@santamariademiralles.cat
X-WR-TIMEZONE:Europe/Madrid
DESCRIPTION:
URI:https://www.santamariademiralles.cat/actualitat/agenda/1629-caixer-mobil-.html
CLASS:PUBLIC
END:VEVENT
END:VCALENDAR
