BEGIN:VCALENDAR
VERSION:2.0
CALSCALE:GREGORIAN
PRODID:-//Diputació de Barcelona//DibaCMS//EN
BEGIN:VEVENT
UID:1634
DTSTAMP:20260420T214314
DTSTART:20240310T120000
DTEND:20240310T140000
SUMMARY:8 DE MARÇ DIA INTERNACIONAL DE LA DONA - duplicat
LOCATION:Crta Igualada a Valls s/n  08787 Santa Maria de Miralles
METHOD:PUBLISH
X-WR-CALNAME:st.m.miralles@santamariademiralles.cat
X-WR-TIMEZONE:Europe/Madrid
DESCRIPTION: 

 

URI:https://www.santamariademiralles.cat/actualitat/agenda/8-de-marc-dia-internacional-de-la-dona-duplicat.html
CLASS:PUBLIC
END:VEVENT
END:VCALENDAR
