BEGIN:VCALENDAR
VERSION:2.0
CALSCALE:GREGORIAN
PRODID:-//Diputació de Barcelona//DibaCMS//EN
BEGIN:VEVENT
UID:1640
DTSTAMP:20260420T235913
DTSTART:20250603T124500
DTEND:20250603T131500
SUMMARY:Caixer mòbil - Caixa Enginyers 
LOCATION:
METHOD:PUBLISH
X-WR-CALNAME:st.m.miralles@santamariademiralles.cat
X-WR-TIMEZONE:Europe/Madrid
DESCRIPTION:
URI:https://www.santamariademiralles.cat/actualitat/agenda/1640-caixer-mobil-caixa-enginyers-.html
CLASS:PUBLIC
END:VEVENT
END:VCALENDAR
