BEGIN:VCALENDAR
VERSION:2.0
CALSCALE:GREGORIAN
PRODID:-//Diputació de Barcelona//DibaCMS//EN
BEGIN:VEVENT
UID:1646
DTSTAMP:20260421T021120
DTSTART:20250601T100000
DTEND:20250601T140000
SUMMARY:FIRA DE L'APLEC DEL CASTELL 2025
LOCATION:08787 Santa Maria de Miralles
METHOD:PUBLISH
X-WR-CALNAME:st.m.miralles@santamariademiralles.cat
X-WR-TIMEZONE:Europe/Madrid
DESCRIPTION:
URI:https://www.santamariademiralles.cat/actualitat/agenda/fira-de-laplec-del-castell-2025.html
CLASS:PUBLIC
END:VEVENT
END:VCALENDAR
