BEGIN:VCALENDAR
VERSION:2.0
CALSCALE:GREGORIAN
PRODID:-//Diputació de Barcelona//DibaCMS//EN
BEGIN:VEVENT
UID:1647
DTSTAMP:20260421T002012
DTSTART:20250710T103000
DTEND:20250710T105000
SUMMARY:Caixer Mòbil     
LOCATION:Davant de l'Ajuntament 
METHOD:PUBLISH
X-WR-CALNAME:st.m.miralles@santamariademiralles.cat
X-WR-TIMEZONE:Europe/Madrid
DESCRIPTION:
URI:https://www.santamariademiralles.cat/actualitat/agenda/1647-caixer-mobil-.html
CLASS:PUBLIC
END:VEVENT
END:VCALENDAR
