BEGIN:VCALENDAR
VERSION:2.0
CALSCALE:GREGORIAN
PRODID:-//Diputació de Barcelona//DibaCMS//EN
BEGIN:VEVENT
UID:1648
DTSTAMP:20260421T021259
DTSTART:20250811T103000
DTEND:20250811T105000
SUMMARY:Caixer Mòbil     
LOCATION:Davant de l'Ajuntament de Santa Maria de Miralles 
METHOD:PUBLISH
X-WR-CALNAME:st.m.miralles@santamariademiralles.cat
X-WR-TIMEZONE:Europe/Madrid
DESCRIPTION:
URI:https://www.santamariademiralles.cat/actualitat/agenda/1648-caixer-mobil-.html
CLASS:PUBLIC
END:VEVENT
END:VCALENDAR
