BEGIN:VCALENDAR
VERSION:2.0
CALSCALE:GREGORIAN
PRODID:-//Diputació de Barcelona//DibaCMS//EN
BEGIN:VEVENT
UID:1655
DTSTAMP:20260421T043849
DTSTART:20250916T110500
DTEND:20250916T120000
SUMMARY:Caixer Mòbil - CaixaBank 
LOCATION:
METHOD:PUBLISH
X-WR-CALNAME:st.m.miralles@santamariademiralles.cat
X-WR-TIMEZONE:Europe/Madrid
DESCRIPTION:Banca Mòbil de Catalunya és un servei de la Generalitat de Catalunya que porta els caixers automàtics i els serveis financers als municipis que no disposen d'oficina bancària.

URI:https://www.santamariademiralles.cat/actualitat/agenda/caixer-mobil-caixabank-.html
CLASS:PUBLIC
END:VEVENT
END:VCALENDAR
