BEGIN:VCALENDAR
VERSION:2.0
CALSCALE:GREGORIAN
PRODID:-//Diputació de Barcelona//DibaCMS//EN
BEGIN:VEVENT
UID:1656
DTSTAMP:20260421T002940
DTSTART:20250701T124500
DTEND:20250701T131500
SUMMARY:Caixer mòbil - Caixa Enginyers  
LOCATION:Ctra. d'Igualada a Valls, s/n 08787 Santa Maria de Miralles
METHOD:PUBLISH
X-WR-CALNAME:st.m.miralles@santamariademiralles.cat
X-WR-TIMEZONE:Europe/Madrid
DESCRIPTION:
URI:https://www.santamariademiralles.cat/actualitat/agenda/1656-caixer-mobil-caixa-enginyers-.html
CLASS:PUBLIC
END:VEVENT
END:VCALENDAR
