BEGIN:VCALENDAR
VERSION:2.0
CALSCALE:GREGORIAN
PRODID:-//Diputació de Barcelona//DibaCMS//EN
BEGIN:VEVENT
UID:1660
DTSTAMP:20260421T044106
DTSTART:20250721T090000
DTEND:20250818T000000
SUMMARY:Festa Major 2025
LOCATION:
METHOD:PUBLISH
X-WR-CALNAME:st.m.miralles@santamariademiralles.cat
X-WR-TIMEZONE:Europe/Madrid
DESCRIPTION:Arriba la nostra Festa Major. un moment especial per retrobar-nos, compartir bons moments i celebrar allò que ens uneix com a comuniat. 

Una excusa perfecta per sortir de casa, riure amb els amics, fer petar la xerrada i saludar aquells que potser fa temps que no veiem.

Us animem a participar-hi amb ganes, a fer poble i a viure aquests dies amb esperit obert i alegria.

Gaudim-la amb il·lusió i fem-la nostra!

 

URI:https://www.santamariademiralles.cat/actualitat/agenda/festa-major-2025.html
CLASS:PUBLIC
END:VEVENT
END:VCALENDAR
