BEGIN:VCALENDAR
VERSION:2.0
CALSCALE:GREGORIAN
PRODID:-//Diputació de Barcelona//DibaCMS//EN
BEGIN:VEVENT
UID:1662
DTSTAMP:20260421T003311
DTSTART:20250905T193000
DTEND:20250907T000000
SUMMARY:SOM JAZZ FESTIVAL 7A EDICIÓ 
LOCATION:Ctra. d'Igualada a Valls, s/n 08787 Santa Maria de Miralles
METHOD:PUBLISH
X-WR-CALNAME:st.m.miralles@santamariademiralles.cat
X-WR-TIMEZONE:Europe/Madrid
DESCRIPTION:Celebrem la 7a edició del Festival de Jazz de Miralles.

URI:https://www.santamariademiralles.cat/actualitat/agenda/som-jazz-festival-7a-edicio-.html
CLASS:PUBLIC
END:VEVENT
END:VCALENDAR
