BEGIN:VCALENDAR
VERSION:2.0
CALSCALE:GREGORIAN
PRODID:-//Diputació de Barcelona//DibaCMS//EN
BEGIN:VEVENT
UID:1663
DTSTAMP:20260421T050457
DTSTART:20250819T110500
DTEND:20250819T120000
SUMMARY:Caixer Mòbil - CaixaBank  
LOCATION:
METHOD:PUBLISH
X-WR-CALNAME:st.m.miralles@santamariademiralles.cat
X-WR-TIMEZONE:Europe/Madrid
DESCRIPTION:Banca Mòbil de Catalunya és un servei de la Generalitat de Catalunya que porta els caixers automàtics i els serveis financers als municipis que no disposen d'oficina bancària.

URI:https://www.santamariademiralles.cat/actualitat/agenda/1663-caixer-mobil-caixabank-.html
CLASS:PUBLIC
END:VEVENT
END:VCALENDAR
