BEGIN:VCALENDAR
VERSION:2.0
CALSCALE:GREGORIAN
PRODID:-//Diputació de Barcelona//DibaCMS//EN
BEGIN:VEVENT
UID:1666
DTSTAMP:20260421T021551
DTSTART:20250911T120000
DTEND:20250911T140000
SUMMARY:Commemoració de la Diada de Catalunya
LOCATION:08787 Santa Maria de Miralles
METHOD:PUBLISH
X-WR-CALNAME:st.m.miralles@santamariademiralles.cat
X-WR-TIMEZONE:Europe/Madrid
DESCRIPTION:MORT A LES CUNETES

URI:https://www.santamariademiralles.cat/actualitat/agenda/commemoracio-de-la-diada-de-catalunya.html
CLASS:PUBLIC
END:VEVENT
END:VCALENDAR
