BEGIN:VCALENDAR
VERSION:2.0
CALSCALE:GREGORIAN
PRODID:-//Diputació de Barcelona//DibaCMS//EN
BEGIN:VEVENT
UID:1669
DTSTAMP:20260421T024344
DTSTART:20251007T114500
DTEND:20251007T131500
SUMMARY:Caixer Mòbil - Caixa Enginyers  
LOCATION:
METHOD:PUBLISH
X-WR-CALNAME:st.m.miralles@santamariademiralles.cat
X-WR-TIMEZONE:Europe/Madrid
DESCRIPTION:Banca Mòbil de Catalunya és un servei de la Generalitat de Catalunya que porta els caixers automàtics i els serveis financers als municipis que no disposen d'oficina bancària.

URI:https://www.santamariademiralles.cat/actualitat/agenda/1669-caixer-mobil-caixa-enginyers-.html
CLASS:PUBLIC
END:VEVENT
END:VCALENDAR
