BEGIN:VCALENDAR
VERSION:2.0
CALSCALE:GREGORIAN
PRODID:-//Diputació de Barcelona//DibaCMS//EN
BEGIN:VEVENT
UID:1671
DTSTAMP:20260421T022928
DTSTART:20251005T120000
DTEND:20251005T180000
SUMMARY:TROBADA DE LA GENT GRAN
LOCATION:
METHOD:PUBLISH
X-WR-CALNAME:st.m.miralles@santamariademiralles.cat
X-WR-TIMEZONE:Europe/Madrid
DESCRIPTION:
URI:https://www.santamariademiralles.cat/actualitat/agenda/1671-trobada-de-la-gent-gran.html
CLASS:PUBLIC
END:VEVENT
END:VCALENDAR
