BEGIN:VCALENDAR
VERSION:2.0
CALSCALE:GREGORIAN
PRODID:-//Diputació de Barcelona//DibaCMS//EN
BEGIN:VEVENT
UID:1673
DTSTAMP:20260421T050110
DTSTART:20251030T174500
DTEND:20251030T230000
SUMMARY:Sortida al teatre . Pel davant... i pel darrera
LOCATION:
METHOD:PUBLISH
X-WR-CALNAME:st.m.miralles@santamariademiralles.cat
X-WR-TIMEZONE:Europe/Madrid
DESCRIPTION:
URI:https://www.santamariademiralles.cat/actualitat/agenda/sortida-al-teatre--pel-davant-i-pel-darrera.html
CLASS:PUBLIC
END:VEVENT
END:VCALENDAR
