BEGIN:VCALENDAR
VERSION:2.0
CALSCALE:GREGORIAN
PRODID:-//Diputació de Barcelona//DibaCMS//EN
BEGIN:VEVENT
UID:1675
DTSTAMP:20260421T023426
DTSTART:20251001T100000
DTEND:20251231T000000
SUMMARY:Calendari d'activitats de tardor
LOCATION:
METHOD:PUBLISH
X-WR-CALNAME:st.m.miralles@santamariademiralles.cat
X-WR-TIMEZONE:Europe/Madrid
DESCRIPTION:
URI:https://www.santamariademiralles.cat/actualitat/agenda/calendari-dactivitats-de-tardor.html
CLASS:PUBLIC
END:VEVENT
END:VCALENDAR
