BEGIN:VCALENDAR
VERSION:2.0
CALSCALE:GREGORIAN
PRODID:-//Diputació de Barcelona//DibaCMS//EN
BEGIN:VEVENT
UID:1681
DTSTAMP:20260421T001843
DTSTART:20251010T100000
DTEND:20251231T100000
SUMMARY:Cicle Flueix de la Vall de la riera de Carme
LOCATION:
METHOD:PUBLISH
X-WR-CALNAME:st.m.miralles@santamariademiralles.cat
X-WR-TIMEZONE:Europe/Madrid
DESCRIPTION:Arriba una nova edició del Cicle Cultural FLUEIX a la Vall de la riera de Carme

Els municipis de Carme, Orpí i Santa Maria de Miralles tornen a unir esforços per celebrar una nova edició del Cicle Cultural FLUEIX, una proposta compartida que porta espectacles de teatre, música i arts escèniques als diferents pobles de la Vall de la Riera.

Del 5 d’octubre al 21 de desembre de 2025, el públic podrà gaudir d’una programació variada, amb funcions per a tots els gustos i edats. Teatre, concerts, poesia escènica i creació contemporània conviuen en una mateixa iniciativa que aposta per acostar la cultura a l’àmbit rural i fer-la accessible a tothom.

Entre els espectacles programats hi trobem propostes com “L’ombra de l’alzina” de Teatre Nu, Sergi Estella, el “Soliloqui de Ton Muntaner”, l’espectacle teatral “Pompeu Fabra s’escriu amb C trencada” a Santa Maria de Miralles, la peça de circ poètic “Man mano, il tempo scorre (L’incontro)”, el tradicional Concert de Goig a l’església de Santa Càndia i la cloenda amb “Celebration” de Montse Colomé.

El cicle, organitzat conjuntament pels tres ajuntaments amb el suport del Departament de Cultura de la Generalitat de Catalunya i la col·laboració de Teatre Nu, consolida FLUEIX com un espai de trobada entre comunitat, territori i cultura.

La cultura torna a fluir per la Vall de la Riera. Us hi esperem!

 

URI:https://www.santamariademiralles.cat/actualitat/agenda/cicle-flueix-de-la-vall-de-la-riera-de-carme.html
CLASS:PUBLIC
END:VEVENT
END:VCALENDAR
