BEGIN:VCALENDAR
VERSION:2.0
CALSCALE:GREGORIAN
PRODID:-//Diputació de Barcelona//DibaCMS//EN
BEGIN:VEVENT
UID:1682
DTSTAMP:20260421T022214
DTSTART:20251010T100000
DTEND:20251019T000000
SUMMARY:Convocatoria
LOCATION:
METHOD:PUBLISH
X-WR-CALNAME:st.m.miralles@santamariademiralles.cat
X-WR-TIMEZONE:Europe/Madrid
DESCRIPTION:Us convoquem el pròxim 18 d'octubre de 2025 a les 19:00 h al Local Social de les Antigues Escoles

El Consell Veïnal vol ser un espai de transparència i una eina de comunicació directa amb tots vosaltres. Un punt de trobada per compartir idees, inquietuds i propostes, amb l’objectiu de donar-vos veu i protagonisme en l’acció de govern del nostre municipi.

Us animem a participar-hi activament: la vostra opinió i experiència són essencials per construir, entre tots i totes, el futur que volem per al nostre poble.

 

 

 

URI:https://www.santamariademiralles.cat/actualitat/agenda/convocatoria.html
CLASS:PUBLIC
END:VEVENT
END:VCALENDAR
