BEGIN:VCALENDAR
VERSION:2.0
CALSCALE:GREGORIAN
PRODID:-//Diputació de Barcelona//DibaCMS//EN
BEGIN:VEVENT
UID:1683
DTSTAMP:20260420T235741
DTSTART:20251025T190000
DTEND:20251025T220000
SUMMARY:Teatre i Show cooking
LOCATION:Crta Igualada a Valls s/n  08787 Santa Maria de Miralles
METHOD:PUBLISH
X-WR-CALNAME:st.m.miralles@santamariademiralles.cat
X-WR-TIMEZONE:Europe/Madrid
DESCRIPTION:Teatre: Pompeu Fabra s'escriu amb "c" trencada i Show cooking amb Eva Oliva

URI:https://www.santamariademiralles.cat/actualitat/agenda/teatre-i-show-cooking.html
CLASS:PUBLIC
END:VEVENT
END:VCALENDAR
