BEGIN:VCALENDAR
VERSION:2.0
CALSCALE:GREGORIAN
PRODID:-//Diputació de Barcelona//DibaCMS//EN
BEGIN:VEVENT
UID:1685
DTSTAMP:20260420T235725
DTSTART:20251017T220000
DTEND:20251017T230000
SUMMARY:Cicle Cultural FLUEIX - Sergi Estella
LOCATION:
METHOD:PUBLISH
X-WR-CALNAME:st.m.miralles@santamariademiralles.cat
X-WR-TIMEZONE:Europe/Madrid
DESCRIPTION:
URI:https://www.santamariademiralles.cat/actualitat/agenda/cicle-cultural-flueix-sergi-estella.html
CLASS:PUBLIC
END:VEVENT
END:VCALENDAR
