BEGIN:VCALENDAR
VERSION:2.0
CALSCALE:GREGORIAN
PRODID:-//Diputació de Barcelona//DibaCMS//EN
BEGIN:VEVENT
UID:1686
DTSTAMP:20260421T024416
DTSTART:20251018T173000
DTEND:20251018T190000
SUMMARY:Cicle Cultural FLUEIX - Soliloqui de Ton Muntaner
LOCATION:
METHOD:PUBLISH
X-WR-CALNAME:st.m.miralles@santamariademiralles.cat
X-WR-TIMEZONE:Europe/Madrid
DESCRIPTION:
URI:https://www.santamariademiralles.cat/actualitat/agenda/cicle-cultural-flueix-soliloqui-de-ton-muntaner.html
CLASS:PUBLIC
END:VEVENT
END:VCALENDAR
