BEGIN:VCALENDAR
VERSION:2.0
CALSCALE:GREGORIAN
PRODID:-//Diputació de Barcelona//DibaCMS//EN
BEGIN:VEVENT
UID:1687
DTSTAMP:20260421T002756
DTSTART:20251122T193000
DTEND:20251122T220000
SUMMARY:Cicle Cultural FLUEIX - Man mani, il tempo scorre (L'incontro)
LOCATION:
METHOD:PUBLISH
X-WR-CALNAME:st.m.miralles@santamariademiralles.cat
X-WR-TIMEZONE:Europe/Madrid
DESCRIPTION:
URI:https://www.santamariademiralles.cat/actualitat/agenda/cicle-cultural-flueix-man-mani-il-tempo-scorre-lincontro.html
CLASS:PUBLIC
END:VEVENT
END:VCALENDAR
